BEGIN:VCALENDAR
VERSION:2.0
PRODID:-//Tukios.com/
BEGIN:VEVENT
UID:58f043ab-9248-4645-88d7-ad1dc7e933eb@www.stephendslater.com
DTSTAMP:20260419T092605Z
DTSTART:20260416T180000Z
DTEND:20260417T000000Z
SUMMARY:Visitation
DESCRIPTION:
URL:https://www.stephendslater.com/obituaries/nicholas-holomshek
LOCATION:Stephen D. Slater Funeral Home 1701 State Route 51 (Large)  
	Jefferson Hills PA 15025
GEO:40.2942082;-79.9169527
END:VEVENT
END:VCALENDAR